BEGIN:VCALENDAR
VERSION:2.0
PRODID:-//wp-events-plugin.com//7.2.3.1//EN
BEGIN:VEVENT
UID:227@babykonzert.ch
DTSTART:20250118T110000Z
DTEND:20250118T114500Z
DTSTAMP:20241219T010141Z
URL:https://babykonzert.ch/events/figuren-kabinett-2/
SUMMARY:"Figuren-Kabinett"  Klarinette\, Cello\, Akrobatik
DESCRIPTION:Ohrwurm-Alarm!\nOb Pinocchio\, Aladdin oder Totoro… unsere be
 rühmten Zeichentrickfiguren sind starke Persönlichkeiten. Zu ihrer Bekan
 ntheit verhilft ihnen nicht nur die Leinwand\, sondern auch die Musik! Ihr
 e Gesichter und Geschichten sind fest verbunden mit Melodien\, Harmonien u
 nd Rhythmen.\n\nMit zwei tollen Musikerinnen und einer Zirkusartistin nehm
 en wir Euch mit auf eine fantastische Reise zu den bekanntesten Figuren de
 r beliebtesten Trickfilme. Kommt gerne verkleidet als Eure Lieblingsfigur!
 \nBesetzung: Junko Otani (Klarinette)\, Yolena Orea Sánchez (Cello)\, Jea
 nine Ebnöther Trott (Zirkus Artistik)\n\nDatum: Samstag 18.1. 2025\, 11:0
 0\nOrt: Palass Zofingen\, Pfistergasse 54\, 4800 Zofingen\nKosten: CHF 10 
 pro Person\, Kinder sind gratis\nTicketvorverkauf: ysea@mac.com
LOCATION:Palass Zofingen\, Pfistergasse 54\, Zofingen\, Schweiz
GEO:47.286791;7.945853
X-APPLE-STRUCTURED-LOCATION;VALUE=URI;X-ADDRESS=Pfistergasse 54\, Zofingen\
 , Schweiz;X-APPLE-RADIUS=100;X-TITLE=Palass Zofingen:geo:47.286791,7.94585
 3
END:VEVENT
END:VCALENDAR